BEGIN:VCALENDAR
VERSION:2.0
PRODID:-//businessvaluationassociation.org//NONSGML kigkonsult.se iCalcreat
 or 2.30.10//
CALSCALE:GREGORIAN
METHOD:PUBLISH
UID:774f6683-2a23-4204-a5ad-5b0fad7788bf
X-WR-CALDESC:Due to the Coronavirus Pandemic\, the BVA has decided to cance
 l the ESOP event for next week - March 19th\, 2020
X-WR-RELCALID:914c6be7e87bef926f399808ecaea954
X-WR-TIMEZONE:America/Chicago
BEGIN:VTIMEZONE
TZID:America/Chicago
BEGIN:STANDARD
TZNAME:CST
DTSTART:20191103T020000
TZOFFSETFROM:-0500
TZOFFSETTO:-0600
RDATE:20201101T020000
END:STANDARD
BEGIN:DAYLIGHT
TZNAME:CDT
DTSTART:20200308T020000
TZOFFSETFROM:-0600
TZOFFSETTO:-0500
RDATE:20210314T020000
END:DAYLIGHT
END:VTIMEZONE
BEGIN:VEVENT
UID:19593bff-785d-4db0-ade2-bb88ca4dbfe5
DTSTAMP:20260425T232252Z
DESCRIPTION:Due to the Coronavirus Pandemic\, the BVA has decided to cancel
  the ESOP event for next week - March 19th\, 2020
DTSTART;TZID=America/Chicago:20200319T114500
DTEND;TZID=America/Chicago:20200319T134500
LOCATION:The Standard Club
SUMMARY:Cancelled - Due to the Coronavirus Pandemic\, the BVA has decided t
 o cancel the ESOP event for next week - March 19th\, 2020
END:VEVENT
END:VCALENDAR
