BEGIN:VCALENDAR
VERSION:2.0
PRODID:-//businessvaluationassociation.org//NONSGML kigkonsult.se iCalcreat
 or 2.30.10//
CALSCALE:GREGORIAN
METHOD:PUBLISH
UID:dc3184f5-b0d7-4e4b-b322-f346b960a647
X-WR-CALDESC:Join us for a presentation by our featured speaker David Howel
 l\, ASA\, MBA - Principal and Practice Leader for Complex Securities Valua
 tions at Plante Moran.
X-WR-RELCALID:6133f356f9f9e716ce82ffbee89b49eb
X-WR-TIMEZONE:America/Chicago
BEGIN:VTIMEZONE
TZID:America/Chicago
BEGIN:STANDARD
TZNAME:CST
DTSTART:20241103T020000
TZOFFSETFROM:-0500
TZOFFSETTO:-0600
RDATE:20251102T020000
RDATE:20261101T020000
END:STANDARD
BEGIN:DAYLIGHT
TZNAME:CDT
DTSTART:20250309T020000
TZOFFSETFROM:-0600
TZOFFSETTO:-0500
RDATE:20260308T020000
END:DAYLIGHT
END:VTIMEZONE
BEGIN:VEVENT
UID:6e765bfb-2051-4ad6-bceb-210297d08ae4
DTSTAMP:20260423T062358Z
DESCRIPTION:Join us for a presentation by our featured speaker David Howell
 \, ASA\, MBA - Principal and Practice Leader for Complex Securities Valuat
 ions at Plante Moran.
DTSTART;TZID=America/Chicago:20250611T114500
DTEND;TZID=America/Chicago:20250611T140000
LOCATION:Plante Moran Offices (10 South Riverside Plaza - 1st Floor - Soldi
 er Field Conference Room)
SUMMARY:Valuation of Complex Securities: Concepts\, Methods\, and Applicati
 ons
END:VEVENT
END:VCALENDAR
